BEGIN:VCALENDAR
VERSION:2.0
PRODID:-//Русская Классическая Школа//NONSGML kigkonsult.se iCalcreator 2.3
 0.10//
CALSCALE:GREGORIAN
METHOD:PUBLISH
UID:7d0ce9f8-b19a-440c-84bd-2e47b59b9463
X-WR-CALNAME:iCagenda
X-WR-CALDESC:Event Management Extension for Joomla!
X-WR-RELCALID:3E26604A-50F4-4449-8B3E-E4F4932D05B5
X-WR-TIMEZONE:Asia/Yekaterinburg
BEGIN:VTIMEZONE
TZID:Asia/Yekaterinburg
BEGIN:STANDARD
TZNAME:+05
DTSTART:20230221T190000
TZOFFSETFROM:+0000
TZOFFSETTO:+0500
END:STANDARD
END:VTIMEZONE
BEGIN:VEVENT
UID:910b208c-9b57-4dc8-801f-4f821f716027
DTSTAMP:20260421T082441Z
CATEGORIES:Средняя школа
CLASS:PUBLIC
DESCRIPTION:
DTSTART:20241123T175600Z
DTEND:20241124T175600Z
GEO:00;0
LOCATION:
ORGANIZER:
SEQUENCE:1
SUMMARY:МСК СЛОВ 231124
TRANSP:OPAQUE
URL:https://russianclassicalschool.ru/seminar-rcsh/proshedshie-seminary/sre
 dnyaya-shkola/220-msk-slov-231124.html
END:VEVENT
END:VCALENDAR
