BEGIN:VCALENDAR
VERSION:2.0
PRODID:-//Русская Классическая Школа//NONSGML kigkonsult.se iCalcreator 2.3
 0.10//
CALSCALE:GREGORIAN
METHOD:PUBLISH
UID:31b4649d-0673-4ff4-b51b-93a27e07b614
X-WR-CALNAME:iCagenda
X-WR-CALDESC:Event Management Extension for Joomla!
X-WR-RELCALID:3E26604A-50F4-4449-8B3E-E4F4932D05B5
X-WR-TIMEZONE:Asia/Yekaterinburg
BEGIN:VTIMEZONE
TZID:Asia/Yekaterinburg
BEGIN:STANDARD
TZNAME:+05
DTSTART:20201208T190000
TZOFFSETFROM:+0000
TZOFFSETTO:+0500
END:STANDARD
END:VTIMEZONE
BEGIN:VEVENT
UID:3c3e4bb2-34de-4adf-8769-acda937525d3
DTSTAMP:20260422T152809Z
CATEGORIES:Подготовка к школе
CLASS:PUBLIC
DESCRIPTION:
DTSTART:20220910T051800Z
DTEND:20220910T051800Z
GEO:00;0
LOCATION:
ORGANIZER:
SEQUENCE:1
SUMMARY:Семинар по дошкольникам в Москве 10 сентября 2022
TRANSP:OPAQUE
URL:https://russianclassicalschool.ru/seminar-rcsh/proshedshie-seminary/pod
 gotovka-k-shkole/131-seminar-po-doshkolnikam-v-moskve-10-sentyabrya-2022.h
 tml
END:VEVENT
END:VCALENDAR
