BEGIN:VCALENDAR
VERSION:2.0
PRODID:-//Русская Классическая Школа//NONSGML kigkonsult.se iCalcreator 2.3
 0.10//
CALSCALE:GREGORIAN
METHOD:PUBLISH
UID:6bcc6e24-fa2c-4f6f-9a06-f02c7d81f570
X-WR-CALNAME:iCagenda
X-WR-CALDESC:Event Management Extension for Joomla!
X-WR-RELCALID:3E26604A-50F4-4449-8B3E-E4F4932D05B5
X-WR-TIMEZONE:Asia/Yekaterinburg
BEGIN:VTIMEZONE
TZID:Asia/Yekaterinburg
BEGIN:STANDARD
TZNAME:+05
DTSTART:20240702T190000
TZOFFSETFROM:+0000
TZOFFSETTO:+0500
END:STANDARD
END:VTIMEZONE
BEGIN:VEVENT
UID:e7ca7b05-0426-4113-bfa9-43bd59199d82
DTSTAMP:20260424T113149Z
CATEGORIES:История
CLASS:PUBLIC
DESCRIPTION:
DTSTART:20260404T143700Z
DTEND:20260405T143700Z
GEO:00;0
LOCATION:
ORGANIZER:
SEQUENCE:1
SUMMARY:4 и 5 апреля —  два однодневных семинара для двух групп по книгам д
 ля чтения по истории России для начальной школы в Москве.
TRANSP:OPAQUE
URL:https://russianclassicalschool.ru/seminar-rcsh/proshedshie-seminary/ist
 oriya/250-i-5-aprelya-dva-odnodnevnykh-seminara-dlya-dvukh-grupp-po-knigam
 -dlya-chteniya-po-istorii-rossii-dlya-nachalnoj-shkoly-v-moskve.html
END:VEVENT
END:VCALENDAR
