BEGIN:VCALENDAR
VERSION:2.0
PRODID:-//Русская Классическая Школа//NONSGML kigkonsult.se iCalcreator 2.3
 0.10//
CALSCALE:GREGORIAN
METHOD:PUBLISH
UID:f3cb2ee9-a236-4b58-a50f-cfc7a6e55169
X-WR-CALNAME:iCagenda
X-WR-CALDESC:Event Management Extension for Joomla!
X-WR-RELCALID:3E26604A-50F4-4449-8B3E-E4F4932D05B5
X-WR-TIMEZONE:Asia/Yekaterinburg
BEGIN:VTIMEZONE
TZID:Asia/Yekaterinburg
BEGIN:STANDARD
TZNAME:+05
DTSTART:20220315T190000
TZOFFSETFROM:+0000
TZOFFSETTO:+0500
END:STANDARD
END:VTIMEZONE
BEGIN:VEVENT
UID:38969262-d3d8-42e9-aeb6-64d6c0c2320e
DTSTAMP:20260424T113505Z
CATEGORIES:История
CLASS:PUBLIC
DESCRIPTION:
DTSTART:20231216T090300Z
DTEND:20231216T090300Z
GEO:00;0
LOCATION:
ORGANIZER:
SEQUENCE:1
SUMMARY:Екатеринбург\, 16.12.2023
TRANSP:OPAQUE
URL:https://russianclassicalschool.ru/seminar-rcsh/proshedshie-seminary/ist
 oriya/179-ekaterinburg-16-12-2023/2023-12-16-14-03.html
END:VEVENT
END:VCALENDAR
