BEGIN:VCALENDAR
VERSION:2.0
PRODID:-//Русская Классическая Школа//NONSGML kigkonsult.se iCalcreator 2.3
 0.10//
CALSCALE:GREGORIAN
METHOD:PUBLISH
UID:45e9b2e7-79b1-4d75-84cb-d8400744525c
X-WR-CALNAME:iCagenda
X-WR-CALDESC:Event Management Extension for Joomla!
X-WR-RELCALID:3E26604A-50F4-4449-8B3E-E4F4932D05B5
X-WR-TIMEZONE:Asia/Yekaterinburg
BEGIN:VTIMEZONE
TZID:Asia/Yekaterinburg
BEGIN:STANDARD
TZNAME:+05
DTSTART:20220222T190000
TZOFFSETFROM:+0000
TZOFFSETTO:+0500
END:STANDARD
END:VTIMEZONE
BEGIN:VEVENT
UID:f7f1ab99-e90c-4a10-8448-91b80df6a017
DTSTAMP:20260424T113639Z
CATEGORIES:История
CLASS:PUBLIC
DESCRIPTION:
DTSTART:20231125T090000Z
DTEND:20231125T090000Z
GEO:00;0
LOCATION:
ORGANIZER:
SEQUENCE:1
SUMMARY:Екатеринбург\, 25.11.2023 ИСТ
TRANSP:OPAQUE
URL:https://russianclassicalschool.ru/seminar-rcsh/proshedshie-seminary/ist
 oriya/178-ekaterinburg-25-11-2023-ist/2023-11-25-14-00.html
END:VEVENT
END:VCALENDAR
