BEGIN:VCALENDAR
VERSION:2.0
PRODID:-//Русская Классическая Школа//NONSGML kigkonsult.se iCalcreator 2.3
 0.10//
CALSCALE:GREGORIAN
METHOD:PUBLISH
UID:f08ef61d-b758-4d82-befd-2671bd69e93f
X-WR-CALNAME:iCagenda
X-WR-CALDESC:Event Management Extension for Joomla!
X-WR-RELCALID:3E26604A-50F4-4449-8B3E-E4F4932D05B5
X-WR-TIMEZONE:Asia/Yekaterinburg
BEGIN:VTIMEZONE
TZID:Asia/Yekaterinburg
BEGIN:STANDARD
TZNAME:+05
DTSTART:20200923T190000
TZOFFSETFROM:+0000
TZOFFSETTO:+0500
END:STANDARD
END:VTIMEZONE
BEGIN:VEVENT
UID:9667b7f7-56cf-4aa3-ba95-5d880061aef6
DTSTAMP:20260424T114154Z
CATEGORIES:История
CLASS:PUBLIC
DESCRIPTION:
DTSTART:20220626T064000Z
DTEND:20220626T064000Z
GEO:00;0
LOCATION:
ORGANIZER:
SEQUENCE:1
SUMMARY:Семинар по истории в Питере 26 июня 2022
TRANSP:OPAQUE
URL:https://russianclassicalschool.ru/seminar-rcsh/proshedshie-seminary/ist
 oriya/123-seminar-po-istorii-v-pitere-26-iyunya-2022.html
END:VEVENT
END:VCALENDAR
