BEGIN:VCALENDAR
VERSION:2.0
PRODID:-//Русская Классическая Школа//NONSGML kigkonsult.se iCalcreator 2.3
 0.10//
CALSCALE:GREGORIAN
METHOD:PUBLISH
UID:b8af1fc5-2664-4ca7-98e4-1f5b9f5cf624
X-WR-CALNAME:iCagenda
X-WR-CALDESC:Event Management Extension for Joomla!
X-WR-RELCALID:3E26604A-50F4-4449-8B3E-E4F4932D05B5
X-WR-TIMEZONE:Asia/Yekaterinburg
BEGIN:VTIMEZONE
TZID:Asia/Yekaterinburg
BEGIN:STANDARD
TZNAME:+05
DTSTART:20200714T190000
TZOFFSETFROM:+0000
TZOFFSETTO:+0500
END:STANDARD
END:VTIMEZONE
BEGIN:VEVENT
UID:94286b26-93be-41e5-905d-805075d9727b
DTSTAMP:20260424T113805Z
CATEGORIES:История
CLASS:PUBLIC
DESCRIPTION:
DTSTART:20220416T063900Z
DTEND:20220416T063900Z
GEO:00;0
LOCATION:
ORGANIZER:
SEQUENCE:1
SUMMARY:Семинар по истории в Екатеринбурге 16 апреля 2022
TRANSP:OPAQUE
URL:https://russianclassicalschool.ru/seminar-rcsh/proshedshie-seminary/ist
 oriya/122-seminar-po-istorii-v-ekaterinburge-16-aprelya-2022.html
END:VEVENT
END:VCALENDAR
