BEGIN:VCALENDAR
VERSION:2.0
PRODID:-//Русская Классическая Школа//NONSGML kigkonsult.se iCalcreator 2.3
 0.10//
CALSCALE:GREGORIAN
METHOD:PUBLISH
UID:e96f5ce5-a5fc-44aa-ac43-a5152d4c3ad8
X-WR-CALNAME:iCagenda
X-WR-CALDESC:Event Management Extension for Joomla!
X-WR-RELCALID:3E26604A-50F4-4449-8B3E-E4F4932D05B5
X-WR-TIMEZONE:Asia/Yekaterinburg
BEGIN:VTIMEZONE
TZID:Asia/Yekaterinburg
BEGIN:STANDARD
TZNAME:+05
DTSTART:20240716T190000
TZOFFSETFROM:+0000
TZOFFSETTO:+0500
END:STANDARD
END:VTIMEZONE
BEGIN:VEVENT
UID:58d4cd4e-7c48-4af7-b45f-d5cb7b2f6e3f
DTSTAMP:20260422T114505Z
CATEGORIES:Чистописание
CLASS:PUBLIC
DESCRIPTION;ALTREP="CID:<FFFF__=0ABBE548DFE235B58f9e8a93d@coffeebean.com>":
 18 и 19 апреля&nbsp\;—&nbsp\;два однодневных семинара для двух групп по чи
 стописанию в Краснодаре. Если вы желаете посетить семинар\, пожалуйста\, в
  срок до 00:00 по московскому времени 31 марта 2026 г. заполните «Основную
  заявку на участие»ОФОРМИТЬ ОСНОВНУЮ ЗАЯВКУ НА УЧАСТИЕ
DTSTART:20260418T053900Z
DTEND:20260419T053900Z
GEO:00;0
LOCATION:
ORGANIZER:
SEQUENCE:1
SUMMARY:Семинар РКШ по чистописанию в Краснодаре 18/19 апреля 2026 г.
TRANSP:OPAQUE
URL:https://russianclassicalschool.ru/seminar-rcsh/proshedshie-seminary/chi
 stopisanie/258-seminar-rksh-po-chistopisaniyu-v-krasnodare-18-19-aprelya-2
 026-g.html
END:VEVENT
END:VCALENDAR
