BEGIN:VCALENDAR
VERSION:2.0
PRODID:-//Русская Классическая Школа//NONSGML kigkonsult.se iCalcreator 2.3
 0.10//
CALSCALE:GREGORIAN
METHOD:PUBLISH
UID:a65c4a66-3358-4516-a0ed-59933d79a6e7
X-WR-CALNAME:iCagenda
X-WR-CALDESC:Event Management Extension for Joomla!
X-WR-RELCALID:3E26604A-50F4-4449-8B3E-E4F4932D05B5
X-WR-TIMEZONE:Asia/Yekaterinburg
BEGIN:VTIMEZONE
TZID:Asia/Yekaterinburg
BEGIN:STANDARD
TZNAME:+05
DTSTART:20240703T190000
TZOFFSETFROM:+0000
TZOFFSETTO:+0500
END:STANDARD
END:VTIMEZONE
BEGIN:VEVENT
UID:f3f4e7b5-55a5-40a9-aac4-5c0f07316cf3
DTSTAMP:20260422T114504Z
CATEGORIES:Чистописание
CLASS:PUBLIC
DESCRIPTION;ALTREP="CID:<FFFF__=0ABBE548DFE235B58f9e8a93d@coffeebean.com>":
 5 апреля — однодневный обучающий семинар по чистописанию в Москве. Если вы
  желаете посетить семинар\, пожалуйста\, в срок до 00:00 по московскому вр
 емени 11 марта 2026 г. заполните «Основную заявку на участие»ОФОРМИТЬ ОСНО
 ВНУЮ ЗАЯВКУ
DTSTART:20260405T161300Z
DTEND:20260405T161300Z
GEO:00;0
LOCATION:
ORGANIZER:
SEQUENCE:1
SUMMARY:5 апреля — однодневный обучающий семинар по чистописанию в Москве
TRANSP:OPAQUE
URL:https://russianclassicalschool.ru/seminar-rcsh/proshedshie-seminary/chi
 stopisanie/251-5-aprelya-odnodnevnyj-obuchayushchij-seminar-po-chistopisan
 iyu-v-moskve/2026-04-05-21-13.html
END:VEVENT
END:VCALENDAR
