BEGIN:VCALENDAR
VERSION:2.0
PRODID:-//Русская Классическая Школа//NONSGML kigkonsult.se iCalcreator 2.3
 0.10//
CALSCALE:GREGORIAN
METHOD:PUBLISH
UID:201700dc-c0fd-41fb-a970-7697ebc17e29
X-WR-CALNAME:iCagenda
X-WR-CALDESC:Event Management Extension for Joomla!
X-WR-RELCALID:3E26604A-50F4-4449-8B3E-E4F4932D05B5
X-WR-TIMEZONE:Asia/Yekaterinburg
BEGIN:VTIMEZONE
TZID:Asia/Yekaterinburg
BEGIN:STANDARD
TZNAME:+05
DTSTART:20240612T190000
TZOFFSETFROM:+0000
TZOFFSETTO:+0500
END:STANDARD
END:VTIMEZONE
BEGIN:VEVENT
UID:5bc2ed36-7f1b-4451-a2cc-69f3444646c8
DTSTAMP:20260422T114520Z
CATEGORIES:Чистописание
CLASS:PUBLIC
DESCRIPTION:
DTSTART:20260315T095800Z
DTEND:20260315T095800Z
GEO:00;0
LOCATION:
ORGANIZER:
SEQUENCE:1
SUMMARY:15 марта — однодневный обучающий семинар по чистописанию в Москве
TRANSP:OPAQUE
URL:https://russianclassicalschool.ru/seminar-rcsh/proshedshie-seminary/chi
 stopisanie/243-15-marta-odnodnevnyj-obuchayushchij-seminar-po-chistopisani
 yu-v-moskve/2026-03-15-14-58.html
END:VEVENT
END:VCALENDAR
