BEGIN:VCALENDAR
VERSION:2.0
PRODID:-//Русская Классическая Школа//NONSGML kigkonsult.se iCalcreator 2.3
 0.10//
CALSCALE:GREGORIAN
METHOD:PUBLISH
UID:3bd18371-deff-42de-9568-d4614ab9d0a3
X-WR-CALNAME:iCagenda
X-WR-CALDESC:Event Management Extension for Joomla!
X-WR-RELCALID:3E26604A-50F4-4449-8B3E-E4F4932D05B5
X-WR-TIMEZONE:Asia/Yekaterinburg
BEGIN:VTIMEZONE
TZID:Asia/Yekaterinburg
BEGIN:STANDARD
TZNAME:+05
DTSTART:20240514T190000
TZOFFSETFROM:+0000
TZOFFSETTO:+0500
END:STANDARD
END:VTIMEZONE
BEGIN:VEVENT
UID:049a66d6-bff4-4238-bcec-7d796f43087f
DTSTAMP:20260422T114510Z
CATEGORIES:Чистописание
CLASS:PUBLIC
DESCRIPTION:
DTSTART:20260214T190000Z
DTEND:20260214T190000Z
GEO:00;0
LOCATION:
ORGANIZER:
SEQUENCE:1
SUMMARY:15 февраля семинар РКШ по чистописанию в Санкт-Петербурге
TRANSP:OPAQUE
URL:https://russianclassicalschool.ru/seminar-rcsh/proshedshie-seminary/chi
 stopisanie/241-spb-chist-0226/2026-02-15-00-00.html
END:VEVENT
END:VCALENDAR
