BEGIN:VCALENDAR
VERSION:2.0
PRODID:-//Русская Классическая Школа//NONSGML kigkonsult.se iCalcreator 2.3
 0.10//
CALSCALE:GREGORIAN
METHOD:PUBLISH
UID:f753aa69-c3e6-4a44-8644-0d021a62fb21
X-WR-CALNAME:iCagenda
X-WR-CALDESC:Event Management Extension for Joomla!
X-WR-RELCALID:3E26604A-50F4-4449-8B3E-E4F4932D05B5
X-WR-TIMEZONE:Asia/Yekaterinburg
BEGIN:VTIMEZONE
TZID:Asia/Yekaterinburg
BEGIN:STANDARD
TZNAME:+05
DTSTART:20230111T190000
TZOFFSETFROM:+0000
TZOFFSETTO:+0500
END:STANDARD
END:VTIMEZONE
BEGIN:VEVENT
UID:b8d64a65-50ca-45d6-92f0-63f891847a16
DTSTAMP:20260422T114610Z
CATEGORIES:Чистописание
CLASS:PUBLIC
DESCRIPTION:
DTSTART:20241013T172200Z
DTEND:20241013T172200Z
GEO:00;0
LOCATION:
ORGANIZER:
SEQUENCE:1
SUMMARY:СПБ ЧСТ 131024
TRANSP:OPAQUE
URL:https://russianclassicalschool.ru/seminar-rcsh/proshedshie-seminary/chi
 stopisanie/216-spb-chst-181024/2024-10-13-22-22.html
END:VEVENT
END:VCALENDAR
