BEGIN:VCALENDAR
VERSION:2.0
PRODID:-//Русская Классическая Школа//NONSGML kigkonsult.se iCalcreator 2.3
 0.10//
CALSCALE:GREGORIAN
METHOD:PUBLISH
UID:36ee0429-561d-4b24-a381-b6caa7947626
X-WR-CALNAME:iCagenda
X-WR-CALDESC:Event Management Extension for Joomla!
X-WR-RELCALID:3E26604A-50F4-4449-8B3E-E4F4932D05B5
X-WR-TIMEZONE:Asia/Yekaterinburg
BEGIN:VTIMEZONE
TZID:Asia/Yekaterinburg
BEGIN:STANDARD
TZNAME:+05
DTSTART:20210720T190000
TZOFFSETFROM:+0000
TZOFFSETTO:+0500
END:STANDARD
END:VTIMEZONE
BEGIN:VEVENT
UID:1710c1fe-0316-4d8f-9db5-3cb7cb580b8d
DTSTAMP:20260422T114637Z
CATEGORIES:Чистописание
CLASS:PUBLIC
DESCRIPTION:
DTSTART:20230422T083600Z
DTEND:20230422T083600Z
GEO:00;0
LOCATION:
ORGANIZER:
SEQUENCE:1
SUMMARY:Семинар по чистописанию в Москве 22 апреля 2023
TRANSP:OPAQUE
URL:https://russianclassicalschool.ru/seminar-rcsh/proshedshie-seminary/chi
 stopisanie/155-seminar-po-chistopisaniyu-v-moskve-22-aprelya-2023.html
END:VEVENT
END:VCALENDAR
