BEGIN:VCALENDAR
VERSION:2.0
PRODID:-//Русская Классическая Школа//NONSGML kigkonsult.se iCalcreator 2.3
 0.10//
CALSCALE:GREGORIAN
METHOD:PUBLISH
UID:6223d7ab-4959-4209-aca4-7abec1b8a7c4
X-WR-CALNAME:iCagenda
X-WR-CALDESC:Event Management Extension for Joomla!
X-WR-RELCALID:3E26604A-50F4-4449-8B3E-E4F4932D05B5
X-WR-TIMEZONE:Asia/Yekaterinburg
BEGIN:VTIMEZONE
TZID:Asia/Yekaterinburg
BEGIN:STANDARD
TZNAME:+05
DTSTART:20210504T190000
TZOFFSETFROM:+0000
TZOFFSETTO:+0500
END:STANDARD
END:VTIMEZONE
BEGIN:VEVENT
UID:902a8825-85bb-4c2e-873f-0fbcb7a15feb
DTSTAMP:20260422T115258Z
CATEGORIES:Чистописание
CLASS:PUBLIC
DESCRIPTION:
DTSTART:20230204T174100Z
DTEND:20230204T174100Z
GEO:00;0
LOCATION:
ORGANIZER:
SEQUENCE:1
SUMMARY:Семинар по чистописанию в Москве 4 февраля 2023
TRANSP:OPAQUE
URL:https://russianclassicalschool.ru/seminar-rcsh/proshedshie-seminary/chi
 stopisanie/148-seminar-po-chistopisaniyu-v-moskve-4-fevralya-2023.html
END:VEVENT
END:VCALENDAR
